BEGIN:VCALENDAR
VERSION:2.0
PRODID:Events Booking
BEGIN:VEVENT
UID:69e8fb40ce4b6
SUMMARY:BSOC: Beaded Magic from Island Southeast Asia with Martha Bluming a
 nd Mark Johnson
DESCRIPTION:BSOC: Bead Society of Orange CountyAn affiliate council of Bowe
 rs Museum
LOCATION:North Main Street\, Santa Ana\, 92706 California\, United States
DTSTART:20260228T190000Z
DTEND:20260228T203000Z
DTSTAMP:20260122T091448Z
ORGANIZER;CN=Bowers Museum:MAILTO:Website@bowers.org
GEO:33.76325;-117.868189
X-APPLE-STRUCTURED-LOCATION;VALUE=URI;X-ADDRESS=North Main Street\, Santa A
 na\, 92706 California\, United States;X-APPLE-RADIUS=72;X-TITLE=Bowers Mus
 eum:33.76325;-117.868189
END:VEVENT
END:VCALENDAR