BEGIN:VCALENDAR
VERSION:2.0
PRODID:Events Booking
BEGIN:VEVENT
UID:69e4f97f08f17
SUMMARY:Celebrity Speaker Series presents Eagles Ronstadt Experience
DESCRIPTION:This 6-piece band of accomplished musicians are dedicated to br
 inging audiences an exciting concert experience of two iconic and popular 
 artists of rock: Linda Ronstadt and The Eagles. Eagles Ronstadt Tribute Ba
 nd promise a nostalgic journey through the golden era of music with hits l
 ike “Hotel California\,” “Blue Bayou\,” “Easy Feeling\,” and 
 “Desperado.”
LOCATION:North Main Street\, Santa Ana\, 92706 California\, United States
DTSTART:20240919T173000Z
DTEND:20240919T190000Z
DTSTAMP:20240829T010424Z
ORGANIZER;CN=Bowers Museum:MAILTO:Website@bowers.org
GEO:33.76325;-117.868189
X-APPLE-STRUCTURED-LOCATION;VALUE=URI;X-ADDRESS=North Main Street\, Santa A
 na\, 92706 California\, United States;X-APPLE-RADIUS=72;X-TITLE=Bowers Mus
 eum:33.76325;-117.868189
END:VEVENT
END:VCALENDAR