BEGIN:VCALENDAR
VERSION:2.0
PRODID:Events Booking
BEGIN:VEVENT
UID:69e62c91c3c17
SUMMARY:Evening for Educators
DESCRIPTION:Join us for an evening of light bites\, wine\, art projects\, a
 nd free gallery access including World of the Terracotta Warriors!
LOCATION:North Main Street\, Santa Ana\, 92706 California\, United States
DTSTART:20250911T233000Z
DTEND:20250912T020000Z
DTSTAMP:20250820T025324Z
ORGANIZER;CN=Bowers Museum:MAILTO:Website@bowers.org
GEO:33.76325;-117.868189
X-APPLE-STRUCTURED-LOCATION;VALUE=URI;X-ADDRESS=North Main Street\, Santa A
 na\, 92706 California\, United States;X-APPLE-RADIUS=72;X-TITLE=Bowers Mus
 eum:33.76325;-117.868189
END:VEVENT
END:VCALENDAR