BEGIN:VCALENDAR
VERSION:2.0
PRODID:Events Booking
BEGIN:VEVENT
UID:69e630053ca19
SUMMARY:Sold Out - Haunted OC After Hours Tour: Spirits & Legends of Bowers
  Museum
DESCRIPTION:Join Haunted Orange County’s Charles Spratley for an exclusiv
 e after-hours tour as you explore the spirits and legends of Bowers Museum
 .
LOCATION:North Main Street\, Santa Ana\, 92706 California\, United States
DTSTART:20251031T023000Z
DTEND:20251031T040000Z
DTSTAMP:20250823T062216Z
ORGANIZER;CN=Bowers Museum:MAILTO:Website@bowers.org
GEO:33.76325;-117.868189
X-APPLE-STRUCTURED-LOCATION;VALUE=URI;X-ADDRESS=North Main Street\, Santa A
 na\, 92706 California\, United States;X-APPLE-RADIUS=72;X-TITLE=Bowers Mus
 eum:33.76325;-117.868189
END:VEVENT
END:VCALENDAR