BEGIN:VCALENDAR
VERSION:2.0
PRODID:Events Booking
BEGIN:VEVENT
UID:69e50ed32ab22
SUMMARY:Sold Out - Sacred Realms Sound Immersion with Jody Post Theissen
DESCRIPTION:Enter a sanctuary for sonic exploration surrounded by vibrant B
 uddhist paintings. Guided by the expertise of sound alchemist Jody Post Th
 eissen\, this transformative practice is designed to cultivate inner peace
  and overall well-being.
LOCATION:North Main Street\, Santa Ana\, 92706 California\, United States
DTSTART:20251002T000000Z
DTEND:20251002T010000Z
DTSTAMP:20250808T082928Z
ORGANIZER;CN=Bowers Museum:MAILTO:Website@bowers.org
GEO:33.76325;-117.868189
X-APPLE-STRUCTURED-LOCATION;VALUE=URI;X-ADDRESS=North Main Street\, Santa A
 na\, 92706 California\, United States;X-APPLE-RADIUS=72;X-TITLE=Bowers Mus
 eum:33.76325;-117.868189
END:VEVENT
END:VCALENDAR