BEGIN:VCALENDAR
VERSION:2.0
PRODID:Events Booking
BEGIN:VEVENT
UID:69e4f97f9c36f
SUMMARY:Touring the Eternal Garden with Aka Chen
DESCRIPTION:Join master artist Aka Chen as he leads you through The Eternal
  Garden: Titanium Art by Aka Chen\, sharing insights into the exquisite de
 corative sculptures on view. This special after-hours tour will be followe
 d by a champagne toast and an opportunity to chat with the artist.
LOCATION:North Main Street\, Santa Ana\, 92706 California\, United States
DTSTART:20241118T000000Z
DTEND:20241118T010000Z
DTSTAMP:20241017T015532Z
ORGANIZER;CN=Bowers Museum:MAILTO:Website@bowers.org
GEO:33.76325;-117.868189
X-APPLE-STRUCTURED-LOCATION;VALUE=URI;X-ADDRESS=North Main Street\, Santa A
 na\, 92706 California\, United States;X-APPLE-RADIUS=72;X-TITLE=Bowers Mus
 eum:33.76325;-117.868189
END:VEVENT
END:VCALENDAR